BEGIN:VCALENDAR
VERSION:2.0
PRODID:-//St. Christopher&#039;s - ECPv6.15.20//NONSGML v1.0//EN
CALSCALE:GREGORIAN
METHOD:PUBLISH
X-WR-CALNAME:St. Christopher&#039;s
X-ORIGINAL-URL:https://stcb.ca
X-WR-CALDESC:Events for St. Christopher&#039;s
REFRESH-INTERVAL;VALUE=DURATION:PT1H
X-Robots-Tag:noindex
X-PUBLISHED-TTL:PT1H
BEGIN:VTIMEZONE
TZID:America/Toronto
BEGIN:DAYLIGHT
TZOFFSETFROM:-0500
TZOFFSETTO:-0400
TZNAME:EDT
DTSTART:20230312T070000
END:DAYLIGHT
BEGIN:STANDARD
TZOFFSETFROM:-0400
TZOFFSETTO:-0500
TZNAME:EST
DTSTART:20231105T060000
END:STANDARD
BEGIN:DAYLIGHT
TZOFFSETFROM:-0500
TZOFFSETTO:-0400
TZNAME:EDT
DTSTART:20240310T070000
END:DAYLIGHT
BEGIN:STANDARD
TZOFFSETFROM:-0400
TZOFFSETTO:-0500
TZNAME:EST
DTSTART:20241103T060000
END:STANDARD
BEGIN:DAYLIGHT
TZOFFSETFROM:-0500
TZOFFSETTO:-0400
TZNAME:EDT
DTSTART:20250309T070000
END:DAYLIGHT
BEGIN:STANDARD
TZOFFSETFROM:-0400
TZOFFSETTO:-0500
TZNAME:EST
DTSTART:20251102T060000
END:STANDARD
END:VTIMEZONE
BEGIN:VEVENT
DTSTART;TZID=America/Toronto:20241119T124500
DTEND;TZID=America/Toronto:20241119T170000
DTSTAMP:20260420T033329
CREATED:20241102T021318Z
LAST-MODIFIED:20241102T021318Z
UID:19959-1732020300-1732035600@stcb.ca
SUMMARY:Finding Common Ground
DESCRIPTION:Addressing hate and racism in Canada – this is a free virtual event sponsored by The Globe and Mail that will be focused on anti-racism and anti-hate strategies in society\, health care\, public institutions\, and online spaces to drive change for a better Canada. It is being held on Tuesday\, November 19 from 12:45 to 5 pm. Register at https://globeandmailevents.com/findingcommongroundmtlEN or watch with Rev. David Montgomery in the Family Room. All are welcome.
URL:https://stcb.ca/event/finding-common-ground/
END:VEVENT
END:VCALENDAR