BEGIN:VCALENDAR
VERSION:2.0
PRODID:-//St. Christopher&#039;s - ECPv6.15.20//NONSGML v1.0//EN
CALSCALE:GREGORIAN
METHOD:PUBLISH
X-ORIGINAL-URL:https://stcb.ca
X-WR-CALDESC:Events for St. Christopher&#039;s
REFRESH-INTERVAL;VALUE=DURATION:PT1H
X-Robots-Tag:noindex
X-PUBLISHED-TTL:PT1H
BEGIN:VTIMEZONE
TZID:America/Toronto
BEGIN:DAYLIGHT
TZOFFSETFROM:-0500
TZOFFSETTO:-0400
TZNAME:EDT
DTSTART:20230312T070000
END:DAYLIGHT
BEGIN:STANDARD
TZOFFSETFROM:-0400
TZOFFSETTO:-0500
TZNAME:EST
DTSTART:20231105T060000
END:STANDARD
BEGIN:DAYLIGHT
TZOFFSETFROM:-0500
TZOFFSETTO:-0400
TZNAME:EDT
DTSTART:20240310T070000
END:DAYLIGHT
BEGIN:STANDARD
TZOFFSETFROM:-0400
TZOFFSETTO:-0500
TZNAME:EST
DTSTART:20241103T060000
END:STANDARD
BEGIN:DAYLIGHT
TZOFFSETFROM:-0500
TZOFFSETTO:-0400
TZNAME:EDT
DTSTART:20250309T070000
END:DAYLIGHT
BEGIN:STANDARD
TZOFFSETFROM:-0400
TZOFFSETTO:-0500
TZNAME:EST
DTSTART:20251102T060000
END:STANDARD
END:VTIMEZONE
BEGIN:VEVENT
DTSTART;TZID=America/Toronto:20241124T183000
DTEND;TZID=America/Toronto:20241124T203000
DTSTAMP:20260422T044049
CREATED:20231006T185856Z
LAST-MODIFIED:20241102T020841Z
UID:17364-1732473000-1732480200@stcb.ca
SUMMARY:Youth Group - Christmas Cookie Decorating
DESCRIPTION:Young people Grade 6 and up  are invited to join our Director of Children’s and Youth Ministry to explore faith\, have fun\, and make new friends! \nGathering times are generally the 2nd and 4th Sundays of the month from 6.30-8.30pm. \n 
URL:https://stcb.ca/event/youth-group-halloween-party/
END:VEVENT
END:VCALENDAR