BEGIN:VCALENDAR
VERSION:2.0
PRODID:-//St. Christopher&#039;s - ECPv6.15.20//NONSGML v1.0//EN
CALSCALE:GREGORIAN
METHOD:PUBLISH
X-WR-CALNAME:St. Christopher&#039;s
X-ORIGINAL-URL:https://stcb.ca
X-WR-CALDESC:Events for St. Christopher&#039;s
REFRESH-INTERVAL;VALUE=DURATION:PT1H
X-Robots-Tag:noindex
X-PUBLISHED-TTL:PT1H
BEGIN:VTIMEZONE
TZID:America/Toronto
BEGIN:DAYLIGHT
TZOFFSETFROM:-0500
TZOFFSETTO:-0400
TZNAME:EDT
DTSTART:20240310T070000
END:DAYLIGHT
BEGIN:STANDARD
TZOFFSETFROM:-0400
TZOFFSETTO:-0500
TZNAME:EST
DTSTART:20241103T060000
END:STANDARD
BEGIN:DAYLIGHT
TZOFFSETFROM:-0500
TZOFFSETTO:-0400
TZNAME:EDT
DTSTART:20250309T070000
END:DAYLIGHT
BEGIN:STANDARD
TZOFFSETFROM:-0400
TZOFFSETTO:-0500
TZNAME:EST
DTSTART:20251102T060000
END:STANDARD
BEGIN:DAYLIGHT
TZOFFSETFROM:-0500
TZOFFSETTO:-0400
TZNAME:EDT
DTSTART:20260308T070000
END:DAYLIGHT
BEGIN:STANDARD
TZOFFSETFROM:-0400
TZOFFSETTO:-0500
TZNAME:EST
DTSTART:20261101T060000
END:STANDARD
END:VTIMEZONE
BEGIN:VEVENT
DTSTART;TZID=America/Toronto:20250203T190000
DTEND;TZID=America/Toronto:20250203T203000
DTSTAMP:20260419T162444
CREATED:20230629T030154Z
LAST-MODIFIED:20250120T215441Z
UID:19936-1738609200-1738614600@stcb.ca
SUMMARY:Mental Health Care Partners' Support Group
DESCRIPTION:Providing care to loved ones experiencing mental health challenges can be overwhelming. Come join a safe and confidential space with others on a caregiving journey to share experiences\, discuss concerns\, and be supported by others confronted with similar situations. Gatherings occur monthly\, generally on the first Monday (except when that day is a statutory holiday\, when it skips to the next week) at 7 pm in-person and via Zoom. Please contact the church office for the link if you wish to attend via Zoom. \n  \n 
URL:https://stcb.ca/event/mental-health-care-partners-support-group-3-2025-02-03/
END:VEVENT
END:VCALENDAR