BEGIN:VCALENDAR
VERSION:2.0
PRODID:-//St. Christopher&#039;s - ECPv6.15.20//NONSGML v1.0//EN
CALSCALE:GREGORIAN
METHOD:PUBLISH
X-WR-CALNAME:St. Christopher&#039;s
X-ORIGINAL-URL:https://stcb.ca
X-WR-CALDESC:Events for St. Christopher&#039;s
REFRESH-INTERVAL;VALUE=DURATION:PT1H
X-Robots-Tag:noindex
X-PUBLISHED-TTL:PT1H
BEGIN:VTIMEZONE
TZID:America/Toronto
BEGIN:DAYLIGHT
TZOFFSETFROM:-0500
TZOFFSETTO:-0400
TZNAME:EDT
DTSTART:20180311T070000
END:DAYLIGHT
BEGIN:STANDARD
TZOFFSETFROM:-0400
TZOFFSETTO:-0500
TZNAME:EST
DTSTART:20181104T060000
END:STANDARD
BEGIN:DAYLIGHT
TZOFFSETFROM:-0500
TZOFFSETTO:-0400
TZNAME:EDT
DTSTART:20190310T070000
END:DAYLIGHT
BEGIN:STANDARD
TZOFFSETFROM:-0400
TZOFFSETTO:-0500
TZNAME:EST
DTSTART:20191103T060000
END:STANDARD
BEGIN:DAYLIGHT
TZOFFSETFROM:-0500
TZOFFSETTO:-0400
TZNAME:EDT
DTSTART:20200308T070000
END:DAYLIGHT
BEGIN:STANDARD
TZOFFSETFROM:-0400
TZOFFSETTO:-0500
TZNAME:EST
DTSTART:20201101T060000
END:STANDARD
BEGIN:DAYLIGHT
TZOFFSETFROM:-0500
TZOFFSETTO:-0400
TZNAME:EDT
DTSTART:20210314T070000
END:DAYLIGHT
BEGIN:STANDARD
TZOFFSETFROM:-0400
TZOFFSETTO:-0500
TZNAME:EST
DTSTART:20211107T060000
END:STANDARD
END:VTIMEZONE
BEGIN:VEVENT
DTSTART;TZID=America/Toronto:20200107T160000
DTEND;TZID=America/Toronto:20200107T180000
DTSTAMP:20260419T220951
CREATED:20200110T183949Z
LAST-MODIFIED:20200110T211711Z
UID:2386-1578412800-1578420000@stcb.ca
SUMMARY:Open Doors: Kids' Club/Tween Club
DESCRIPTION:This is an after-school program for school-aged children\, ages 4-10\, and 11-14. Activities are varied\, tailored to each age group\, and may include crafts\, outdoor activity\, homework time\, fun and fellowship. A healthy snack is provided.
URL:https://stcb.ca/event/open-doors-kids-club-tween-club/2020-01-07/
END:VEVENT
BEGIN:VEVENT
DTSTART;TZID=America/Toronto:20191224T160000
DTEND;TZID=America/Toronto:20191224T173000
DTSTAMP:20260419T220951
CREATED:20191203T022558Z
LAST-MODIFIED:20191203T022558Z
UID:1406-1577203200-1577208600@stcb.ca
SUMMARY:Children's Pageant
DESCRIPTION:
URL:https://stcb.ca/event/childrens-pageant/
END:VEVENT
BEGIN:VEVENT
DTSTART;TZID=America/Toronto:20191217T180000
DTEND;TZID=America/Toronto:20191217T180000
DTSTAMP:20260419T220951
CREATED:20191203T022432Z
LAST-MODIFIED:20191203T022432Z
UID:1404-1576605600-1576605600@stcb.ca
SUMMARY:Christmas Dinner
DESCRIPTION:
URL:https://stcb.ca/event/christmas-dinner/
CATEGORIES:Front Page
END:VEVENT
END:VCALENDAR