BEGIN:VCALENDAR
VERSION:2.0
PRODID:-//St. Christopher&#039;s - ECPv6.15.20//NONSGML v1.0//EN
CALSCALE:GREGORIAN
METHOD:PUBLISH
X-ORIGINAL-URL:https://stcb.ca
X-WR-CALDESC:Events for St. Christopher&#039;s
REFRESH-INTERVAL;VALUE=DURATION:PT1H
X-Robots-Tag:noindex
X-PUBLISHED-TTL:PT1H
BEGIN:VTIMEZONE
TZID:America/Toronto
BEGIN:DAYLIGHT
TZOFFSETFROM:-0500
TZOFFSETTO:-0400
TZNAME:EDT
DTSTART:20260308T070000
END:DAYLIGHT
BEGIN:STANDARD
TZOFFSETFROM:-0400
TZOFFSETTO:-0500
TZNAME:EST
DTSTART:20261101T060000
END:STANDARD
BEGIN:DAYLIGHT
TZOFFSETFROM:-0500
TZOFFSETTO:-0400
TZNAME:EDT
DTSTART:20270314T070000
END:DAYLIGHT
BEGIN:STANDARD
TZOFFSETFROM:-0400
TZOFFSETTO:-0500
TZNAME:EST
DTSTART:20271107T060000
END:STANDARD
BEGIN:DAYLIGHT
TZOFFSETFROM:-0500
TZOFFSETTO:-0400
TZNAME:EDT
DTSTART:20280312T070000
END:DAYLIGHT
BEGIN:STANDARD
TZOFFSETFROM:-0400
TZOFFSETTO:-0500
TZNAME:EST
DTSTART:20281105T060000
END:STANDARD
END:VTIMEZONE
BEGIN:VEVENT
DTSTART;TZID=America/Toronto:20270422T120000
DTEND;TZID=America/Toronto:20270422T130000
DTSTAMP:20260423T180604
CREATED:20220908T034248Z
LAST-MODIFIED:20220908T034248Z
UID:23898-1808395200-1808398800@stcb.ca
SUMMARY:Open Doors Community Lunch
DESCRIPTION:We offer an in-person lunch geared toward seniors at noon on Thursdays.  This program is offered free of charge\, though a pay-as-you-are-able donation is always appreciated. All are welcome! \n 
URL:https://stcb.ca/event/open-doors-community-lunch/2027-04-22/
END:VEVENT
BEGIN:VEVENT
DTSTART;TZID=America/Toronto:20270422T123000
DTEND;TZID=America/Toronto:20270422T140000
DTSTAMP:20260423T180604
CREATED:20231002T215135Z
LAST-MODIFIED:20231002T215135Z
UID:23899-1808397000-1808402400@stcb.ca
SUMMARY:Open Doors Clothing Store - Thursday
DESCRIPTION:Our clothing store offers seasonally-appropriate clothing and shoes free of charge on Tuesdays from 3:30 pm until 6:00 pm and on Thursdays from 12:30 pm until 2:00 pm. \nCheck in at the clothing store entrance on the northwest corner of our building next to the community garden.  \nDonations of clean\, gently-used\, seasonal clothing and footwear are gratefully accepted Monday through Thursday from 9:30 am – 4:00 pm\, and on Fridays from 9:30 am – noon.
URL:https://stcb.ca/event/clothing-store-3/2027-04-22/
END:VEVENT
BEGIN:VEVENT
DTSTART;TZID=America/Toronto:20270422T123000
DTEND;TZID=America/Toronto:20270422T140000
DTSTAMP:20260423T180604
CREATED:20241219T154635Z
LAST-MODIFIED:20241219T154635Z
UID:23900-1808397000-1808402400@stcb.ca
SUMMARY:Community Market - Thursday
DESCRIPTION:Our Community Market provides fresh\, frozen and nutritious dry goods with the additional support of hygiene and diapers. \nPlease call the church office at 905.634.1809 to make an appointment for a time to shop. No proof of need required\, all are welcome. \nThe Market is open on Tuesdays from 3:30 pm – 6:00 pm and on Thursdays from 12:30 pm – 2 pm.
URL:https://stcb.ca/event/community-market-thursday/2027-04-22/
END:VEVENT
END:VCALENDAR