BEGIN:VCALENDAR
VERSION:2.0
PRODID:-//St. Christopher&#039;s - ECPv6.15.20//NONSGML v1.0//EN
CALSCALE:GREGORIAN
METHOD:PUBLISH
X-WR-CALNAME:St. Christopher&#039;s
X-ORIGINAL-URL:https://stcb.ca
X-WR-CALDESC:Events for St. Christopher&#039;s
REFRESH-INTERVAL;VALUE=DURATION:PT1H
X-Robots-Tag:noindex
X-PUBLISHED-TTL:PT1H
BEGIN:VTIMEZONE
TZID:America/Toronto
BEGIN:DAYLIGHT
TZOFFSETFROM:-0500
TZOFFSETTO:-0400
TZNAME:EDT
DTSTART:20260308T070000
END:DAYLIGHT
BEGIN:STANDARD
TZOFFSETFROM:-0400
TZOFFSETTO:-0500
TZNAME:EST
DTSTART:20261101T060000
END:STANDARD
BEGIN:DAYLIGHT
TZOFFSETFROM:-0500
TZOFFSETTO:-0400
TZNAME:EDT
DTSTART:20270314T070000
END:DAYLIGHT
BEGIN:STANDARD
TZOFFSETFROM:-0400
TZOFFSETTO:-0500
TZNAME:EST
DTSTART:20271107T060000
END:STANDARD
BEGIN:DAYLIGHT
TZOFFSETFROM:-0500
TZOFFSETTO:-0400
TZNAME:EDT
DTSTART:20280312T070000
END:DAYLIGHT
BEGIN:STANDARD
TZOFFSETFROM:-0400
TZOFFSETTO:-0500
TZNAME:EST
DTSTART:20281105T060000
END:STANDARD
END:VTIMEZONE
BEGIN:VEVENT
DTSTART;TZID=America/Toronto:20270413T164500
DTEND;TZID=America/Toronto:20270413T190000
DTSTAMP:20260420T020328
CREATED:20200110T183403Z
LAST-MODIFIED:20200110T183403Z
UID:23843-1807634700-1807642800@stcb.ca
SUMMARY:Open Doors Community Dinner
DESCRIPTION:Each Tuesday we offer a delicious community meal\, featuring fresh ingredients from our garden and from our food partners. Everyone is welcome. No pre-registration is required. \nHospitality hour: 5:00 – 5:45PM\nIn-person dinner: 6:00 PM
URL:https://stcb.ca/event/open-doors-community-dinner/2027-04-13/
END:VEVENT
BEGIN:VEVENT
DTSTART;TZID=America/Toronto:20270414T093000
DTEND;TZID=America/Toronto:20270414T103000
DTSTAMP:20260420T020328
CREATED:20250908T003937Z
LAST-MODIFIED:20250908T003937Z
UID:23847-1807695000-1807698600@stcb.ca
SUMMARY:Fit for Service - Wednesday
DESCRIPTION:Fit for Service is a drop-in exercise session\, held in the Great Hall. Wednesday classes begin at 9.30am and feature cardio and weights\, \nCost is four dollars ($4.00) per session. Bring your own exercise mat. Join us for coffee and fellowship in the Family Room after the session.
URL:https://stcb.ca/event/fit-for-service-wednesday/2027-04-14/
END:VEVENT
BEGIN:VEVENT
DTSTART;TZID=America/Toronto:20270415T103000
DTEND;TZID=America/Toronto:20270415T113000
DTSTAMP:20260420T020328
CREATED:20220429T151824Z
LAST-MODIFIED:20220429T151824Z
UID:23848-1807785000-1807788600@stcb.ca
SUMMARY:Thursday Morning Bible Study
DESCRIPTION:Join us on Thursday mornings for an informal Bible Study at 10:30 am. \nYou are also welcome to join us for an in-person Eucharist service which follows at 11:30 am.
URL:https://stcb.ca/event/thursday-morning-bible-study/2027-04-15/
END:VEVENT
BEGIN:VEVENT
DTSTART;TZID=America/Toronto:20270415T120000
DTEND;TZID=America/Toronto:20270415T130000
DTSTAMP:20260420T020328
CREATED:20220908T034248Z
LAST-MODIFIED:20220908T034248Z
UID:23849-1807790400-1807794000@stcb.ca
SUMMARY:Open Doors Community Lunch
DESCRIPTION:We offer an in-person lunch geared toward seniors at noon on Thursdays.  This program is offered free of charge\, though a pay-as-you-are-able donation is always appreciated. All are welcome! \n 
URL:https://stcb.ca/event/open-doors-community-lunch/2027-04-15/
END:VEVENT
BEGIN:VEVENT
DTSTART;TZID=America/Toronto:20270415T123000
DTEND;TZID=America/Toronto:20270415T140000
DTSTAMP:20260420T020328
CREATED:20231002T215135Z
LAST-MODIFIED:20231002T215135Z
UID:23850-1807792200-1807797600@stcb.ca
SUMMARY:Open Doors Clothing Store - Thursday
DESCRIPTION:Our clothing store offers seasonally-appropriate clothing and shoes free of charge on Tuesdays from 3:30 pm until 6:00 pm and on Thursdays from 12:30 pm until 2:00 pm. \nCheck in at the clothing store entrance on the northwest corner of our building next to the community garden.  \nDonations of clean\, gently-used\, seasonal clothing and footwear are gratefully accepted Monday through Thursday from 9:30 am – 4:00 pm\, and on Fridays from 9:30 am – noon.
URL:https://stcb.ca/event/clothing-store-3/2027-04-15/
END:VEVENT
BEGIN:VEVENT
DTSTART;TZID=America/Toronto:20270415T123000
DTEND;TZID=America/Toronto:20270415T140000
DTSTAMP:20260420T020328
CREATED:20241219T154635Z
LAST-MODIFIED:20241219T154635Z
UID:23851-1807792200-1807797600@stcb.ca
SUMMARY:Community Market - Thursday
DESCRIPTION:Our Community Market provides fresh\, frozen and nutritious dry goods with the additional support of hygiene and diapers. \nPlease call the church office at 905.634.1809 to make an appointment for a time to shop. No proof of need required\, all are welcome. \nThe Market is open on Tuesdays from 3:30 pm – 6:00 pm and on Thursdays from 12:30 pm – 2 pm.
URL:https://stcb.ca/event/community-market-thursday/2027-04-15/
END:VEVENT
BEGIN:VEVENT
DTSTART;TZID=America/Toronto:20270416T093000
DTEND;TZID=America/Toronto:20270416T103000
DTSTAMP:20260420T020328
CREATED:20250908T004110Z
LAST-MODIFIED:20250908T004110Z
UID:23869-1807867800-1807871400@stcb.ca
SUMMARY:Fit for Service - Friday
DESCRIPTION:Fit for Service is a drop-in exercise session\, held in the Great Hall. Friday classes begin at 9.30am and is a yoga class\, \nCost is four dollars ($4.00) per session. Bring your own exercise mat. Join us for coffee and fellowship in the Family Room after the session.
URL:https://stcb.ca/event/fit-for-service-friday/2027-04-16/
END:VEVENT
BEGIN:VEVENT
DTSTART;TZID=America/Toronto:20270418T180000
DTEND;TZID=America/Toronto:20270418T193000
DTSTAMP:20260420T020328
CREATED:20250311T180156Z
LAST-MODIFIED:20250311T180156Z
UID:23876-1808071200-1808076600@stcb.ca
SUMMARY:Kids Club
DESCRIPTION:Kids Club is our Junior Youth Group\, designed to engage kids ages 8-11 in faith formation\, friendship and team building. \nWe will be meeting on the 3rd Sunday of each month from 6:00-7:30 pm for faith and fun. For more information\, please contact Carrie at carrie@stcb.ca.
URL:https://stcb.ca/event/kids-club-cooking-night/2027-04-18/
END:VEVENT
END:VCALENDAR