BEGIN:VCALENDAR
VERSION:2.0
PRODID:-//St. Christopher&#039;s - ECPv6.15.20//NONSGML v1.0//EN
CALSCALE:GREGORIAN
METHOD:PUBLISH
X-WR-CALNAME:St. Christopher&#039;s
X-ORIGINAL-URL:https://stcb.ca
X-WR-CALDESC:Events for St. Christopher&#039;s
REFRESH-INTERVAL;VALUE=DURATION:PT1H
X-Robots-Tag:noindex
X-PUBLISHED-TTL:PT1H
BEGIN:VTIMEZONE
TZID:America/Toronto
BEGIN:DAYLIGHT
TZOFFSETFROM:-0500
TZOFFSETTO:-0400
TZNAME:EDT
DTSTART:20260308T070000
END:DAYLIGHT
BEGIN:STANDARD
TZOFFSETFROM:-0400
TZOFFSETTO:-0500
TZNAME:EST
DTSTART:20261101T060000
END:STANDARD
BEGIN:DAYLIGHT
TZOFFSETFROM:-0500
TZOFFSETTO:-0400
TZNAME:EDT
DTSTART:20270314T070000
END:DAYLIGHT
BEGIN:STANDARD
TZOFFSETFROM:-0400
TZOFFSETTO:-0500
TZNAME:EST
DTSTART:20271107T060000
END:STANDARD
BEGIN:DAYLIGHT
TZOFFSETFROM:-0500
TZOFFSETTO:-0400
TZNAME:EDT
DTSTART:20280312T070000
END:DAYLIGHT
BEGIN:STANDARD
TZOFFSETFROM:-0400
TZOFFSETTO:-0500
TZNAME:EST
DTSTART:20281105T060000
END:STANDARD
END:VTIMEZONE
BEGIN:VEVENT
DTSTART;TZID=America/Toronto:20270418T180000
DTEND;TZID=America/Toronto:20270418T193000
DTSTAMP:20260421T072354
CREATED:20250311T180156Z
LAST-MODIFIED:20250311T180156Z
UID:23876-1808071200-1808076600@stcb.ca
SUMMARY:Kids Club
DESCRIPTION:Kids Club is our Junior Youth Group\, designed to engage kids ages 8-11 in faith formation\, friendship and team building. \nWe will be meeting on the 3rd Sunday of each month from 6:00-7:30 pm for faith and fun. For more information\, please contact Carrie at carrie@stcb.ca.
URL:https://stcb.ca/event/kids-club-cooking-night/2027-04-18/
END:VEVENT
BEGIN:VEVENT
DTSTART;TZID=America/Toronto:20270419T093000
DTEND;TZID=America/Toronto:20270419T103000
DTSTAMP:20260421T072354
CREATED:20230629T023430Z
LAST-MODIFIED:20230629T023430Z
UID:23878-1808127000-1808130600@stcb.ca
SUMMARY:Fit for Service (Monday)
DESCRIPTION:Fit for Service is a drop-in exercise session\, held in the Great Hall. Monday classes begin at 9.30am and feature cardio and weights\, \nCost is four dollars ($4.00) per session. Bring your own exercise mat. Join us for coffee and fellowship in the Family Room after the session.
URL:https://stcb.ca/event/fit-for-service-monday/2027-04-19/
END:VEVENT
BEGIN:VEVENT
DTSTART;TZID=America/Toronto:20270419T190000
DTEND;TZID=America/Toronto:20270419T200000
DTSTAMP:20260421T072354
CREATED:20220202T141050Z
LAST-MODIFIED:20220202T141050Z
UID:23877-1808161200-1808164800@stcb.ca
SUMMARY:Encountering the Bible
DESCRIPTION:In this informal Bible Study\, we share our thoughts and understanding of the readings for the upcoming Sunday\, as well as talking about how the passages might touch upon our personal lives. All are welcome to join weekly on Zoom\, Monday evenings at 7pm. Please contact the church office for connection information at 905.634.1809 or staff@stcb.ca
URL:https://stcb.ca/event/encountering-the-bible/2027-04-19/
END:VEVENT
END:VCALENDAR