BEGIN:VCALENDAR
VERSION:2.0
PRODID:-//St. Christopher&#039;s - ECPv6.15.20//NONSGML v1.0//EN
CALSCALE:GREGORIAN
METHOD:PUBLISH
X-ORIGINAL-URL:https://stcb.ca
X-WR-CALDESC:Events for St. Christopher&#039;s
REFRESH-INTERVAL;VALUE=DURATION:PT1H
X-Robots-Tag:noindex
X-PUBLISHED-TTL:PT1H
BEGIN:VTIMEZONE
TZID:America/Toronto
BEGIN:DAYLIGHT
TZOFFSETFROM:-0500
TZOFFSETTO:-0400
TZNAME:EDT
DTSTART:20230312T070000
END:DAYLIGHT
BEGIN:STANDARD
TZOFFSETFROM:-0400
TZOFFSETTO:-0500
TZNAME:EST
DTSTART:20231105T060000
END:STANDARD
BEGIN:DAYLIGHT
TZOFFSETFROM:-0500
TZOFFSETTO:-0400
TZNAME:EDT
DTSTART:20240310T070000
END:DAYLIGHT
BEGIN:STANDARD
TZOFFSETFROM:-0400
TZOFFSETTO:-0500
TZNAME:EST
DTSTART:20241103T060000
END:STANDARD
BEGIN:DAYLIGHT
TZOFFSETFROM:-0500
TZOFFSETTO:-0400
TZNAME:EDT
DTSTART:20250309T070000
END:DAYLIGHT
BEGIN:STANDARD
TZOFFSETFROM:-0400
TZOFFSETTO:-0500
TZNAME:EST
DTSTART:20251102T060000
END:STANDARD
END:VTIMEZONE
BEGIN:VEVENT
DTSTART;TZID=America/Toronto:20240506T190000
DTEND;TZID=America/Toronto:20240506T203000
DTSTAMP:20260423T062844
CREATED:20230629T030154Z
LAST-MODIFIED:20251222T205149Z
UID:16220-1715022000-1715027400@stcb.ca
SUMMARY:Mental Health Care Partners' Support Group
DESCRIPTION:Providing care to loved ones experiencing mental health challenges can be overwhelming. Come join a safe and confidential space with others on a caregiving journey to share experiences\, discuss concerns\, and be supported by others confronted with similar situations. Gatherings occur monthly\, generally on the first Monday (except when that day is a statutory holiday\, when it skips to the next week) at 7 pm in-person and via Zoom. Please contact the church office for the link if you wish to attend via Zoom. \n  \n 
URL:https://stcb.ca/event/mental-health-care-partners-support-group-3/2024-05-06/
END:VEVENT
BEGIN:VEVENT
DTSTART;TZID=America/Toronto:20240515T190000
DTEND;TZID=America/Toronto:20240515T203000
DTSTAMP:20260423T062844
CREATED:20230629T025630Z
LAST-MODIFIED:20240516T190645Z
UID:16215-1715799600-1715805000@stcb.ca
SUMMARY:You Are Not Alone
DESCRIPTION:  \nJoin others who have suffered the death of a loved one for mutual emotional support through a difficult time of grieving. All are welcome to join in-person in the Family Room or via Zoom. We  meet on the third Wednesday of every month\, beginning at 7 p.m. Please contact the church office for the link to join via Zoom. \n  \n 
URL:https://stcb.ca/event/you-are-not-alone-2/
END:VEVENT
BEGIN:VEVENT
DTSTART;TZID=America/Toronto:20240522T190000
DTEND;TZID=America/Toronto:20240522T210000
DTSTAMP:20260423T062844
CREATED:20240516T185131Z
LAST-MODIFIED:20240516T185131Z
UID:18836-1716404400-1716411600@stcb.ca
SUMMARY:St. Christopher's Connects
DESCRIPTION:If you have recently arrived at St. Christopher’s\, please join Penny for a two-part series on how to connect with our church. It’s a chance to ask questions and to connect with St. Christopher’s people. While it is designed for people who have recently arrived\, but is open to anyone who wants find new ways to connect at St. Christopher’s!
URL:https://stcb.ca/event/st-christophers-connects-2/2024-05-22/
END:VEVENT
BEGIN:VEVENT
DTSTART;TZID=America/Toronto:20240525T100000
DTEND;TZID=America/Toronto:20240525T170000
DTSTAMP:20260423T062844
CREATED:20240516T190444Z
LAST-MODIFIED:20240516T190444Z
UID:18844-1716631200-1716656400@stcb.ca
SUMMARY:Halton Pride Fest
DESCRIPTION:We will be hosting a booth at this year’s Halton Pride Fest which will be held at Hidden Valley Park. Please come and visit us!
URL:https://stcb.ca/event/halton-pride-fest/
END:VEVENT
END:VCALENDAR