BEGIN:VCALENDAR
VERSION:2.0
PRODID:-//St. Christopher&#039;s - ECPv6.15.20//NONSGML v1.0//EN
CALSCALE:GREGORIAN
METHOD:PUBLISH
X-ORIGINAL-URL:https://stcb.ca
X-WR-CALDESC:Events for St. Christopher&#039;s
REFRESH-INTERVAL;VALUE=DURATION:PT1H
X-Robots-Tag:noindex
X-PUBLISHED-TTL:PT1H
BEGIN:VTIMEZONE
TZID:America/Toronto
BEGIN:DAYLIGHT
TZOFFSETFROM:-0500
TZOFFSETTO:-0400
TZNAME:EDT
DTSTART:20240310T070000
END:DAYLIGHT
BEGIN:STANDARD
TZOFFSETFROM:-0400
TZOFFSETTO:-0500
TZNAME:EST
DTSTART:20241103T060000
END:STANDARD
BEGIN:DAYLIGHT
TZOFFSETFROM:-0500
TZOFFSETTO:-0400
TZNAME:EDT
DTSTART:20250309T070000
END:DAYLIGHT
BEGIN:STANDARD
TZOFFSETFROM:-0400
TZOFFSETTO:-0500
TZNAME:EST
DTSTART:20251102T060000
END:STANDARD
BEGIN:DAYLIGHT
TZOFFSETFROM:-0500
TZOFFSETTO:-0400
TZNAME:EDT
DTSTART:20260308T070000
END:DAYLIGHT
BEGIN:STANDARD
TZOFFSETFROM:-0400
TZOFFSETTO:-0500
TZNAME:EST
DTSTART:20261101T060000
END:STANDARD
END:VTIMEZONE
BEGIN:VEVENT
DTSTART;TZID=America/Toronto:20250223T100000
DTEND;TZID=America/Toronto:20250223T110000
DTSTAMP:20260420T020208
CREATED:20211208T001103Z
LAST-MODIFIED:20250127T170636Z
UID:10841-1740304800-1740308400@stcb.ca
SUMMARY:Sunday Worship - 10 am
DESCRIPTION:Join us in person this morning at 10:00 am for a Communion service featuring organ/piano music supported by our choir and other instrumentalists. All are invited to receive Communion. \nOur annual Congregational Meeting will follow the service. \n 
URL:https://stcb.ca/event/sunday-worship-930-am/
END:VEVENT
END:VCALENDAR