BEGIN:VCALENDAR
VERSION:2.0
PRODID:-//St. Christopher&#039;s - ECPv6.15.20//NONSGML v1.0//EN
CALSCALE:GREGORIAN
METHOD:PUBLISH
X-WR-CALNAME:St. Christopher&#039;s
X-ORIGINAL-URL:https://stcb.ca
X-WR-CALDESC:Events for St. Christopher&#039;s
REFRESH-INTERVAL;VALUE=DURATION:PT1H
X-Robots-Tag:noindex
X-PUBLISHED-TTL:PT1H
BEGIN:VTIMEZONE
TZID:America/Toronto
BEGIN:DAYLIGHT
TZOFFSETFROM:-0500
TZOFFSETTO:-0400
TZNAME:EDT
DTSTART:20240310T070000
END:DAYLIGHT
BEGIN:STANDARD
TZOFFSETFROM:-0400
TZOFFSETTO:-0500
TZNAME:EST
DTSTART:20241103T060000
END:STANDARD
BEGIN:DAYLIGHT
TZOFFSETFROM:-0500
TZOFFSETTO:-0400
TZNAME:EDT
DTSTART:20250309T070000
END:DAYLIGHT
BEGIN:STANDARD
TZOFFSETFROM:-0400
TZOFFSETTO:-0500
TZNAME:EST
DTSTART:20251102T060000
END:STANDARD
BEGIN:DAYLIGHT
TZOFFSETFROM:-0500
TZOFFSETTO:-0400
TZNAME:EDT
DTSTART:20260308T070000
END:DAYLIGHT
BEGIN:STANDARD
TZOFFSETFROM:-0400
TZOFFSETTO:-0500
TZNAME:EST
DTSTART:20261101T060000
END:STANDARD
BEGIN:DAYLIGHT
TZOFFSETFROM:-0500
TZOFFSETTO:-0400
TZNAME:EDT
DTSTART:20270314T070000
END:DAYLIGHT
BEGIN:STANDARD
TZOFFSETFROM:-0400
TZOFFSETTO:-0500
TZNAME:EST
DTSTART:20271107T060000
END:STANDARD
BEGIN:DAYLIGHT
TZOFFSETFROM:-0500
TZOFFSETTO:-0400
TZNAME:EDT
DTSTART:20280312T070000
END:DAYLIGHT
BEGIN:STANDARD
TZOFFSETFROM:-0400
TZOFFSETTO:-0500
TZNAME:EST
DTSTART:20281105T060000
END:STANDARD
END:VTIMEZONE
BEGIN:VEVENT
DTSTART;TZID=America/Toronto:20250310T140000
DTEND;TZID=America/Toronto:20271231T160000
DTSTAMP:20260419T130856
CREATED:20220908T025204Z
LAST-MODIFIED:20260408T141902Z
UID:13147-1741615200-1830268800@stcb.ca
SUMMARY:Bridge Group
DESCRIPTION:Welcome to those wishing to join us for a game of Bridge! Our St. Christopher’s Bridge Group meets every other week on Mondays from 2-4pm. All are welcome but previous experience is appreciated. Light refreshments will be provided. You don’t need to be a regular at St. Christopher’s to join this group. \nPlease contact Liz at staff@stcb.ca for more information. \n 
URL:https://stcb.ca/event/bridge-group/2025-03-10/
END:VEVENT
BEGIN:VEVENT
DTSTART;TZID=America/Toronto:20250312T190000
DTEND;TZID=America/Toronto:20270331T200000
DTSTAMP:20260419T130856
CREATED:20250127T173209Z
LAST-MODIFIED:20260408T135057Z
UID:21138-1741806000-1806523200@stcb.ca
SUMMARY:Burlington Mindfulness
DESCRIPTION:All are welcome. Mindfulness is the basic human ability to be fully present in the moment\, aware of where we are and what we’re doing\, and not overly reactive or overwhelmed by what’s going on around us. It can be an effective way to cultivate more inner peace. Come and learn more! We meet on alternate Wednesday evenings at 7 pm. Contacts are Sandy Amodio and Carole Caron at staff@stcb.ca.
URL:https://stcb.ca/event/burlington-mindfulness/2025-03-12/
END:VEVENT
BEGIN:VEVENT
DTSTART;TZID=America/Toronto:20250504T103000
DTEND;TZID=America/Toronto:20250504T113000
DTSTAMP:20260419T130856
CREATED:20250430T155940Z
LAST-MODIFIED:20250430T155940Z
UID:21709-1746354600-1746358200@stcb.ca
SUMMARY:Instagram Workshop
DESCRIPTION:Keep up to date with the many engaging St. Christopher’s Instagram posts! Join Shannon Mac for assistance and tips on accessing Instagram on your cellphone. Meet in the Family Room following the 9:30 am Sunday service on either May 4 or June 1.
URL:https://stcb.ca/event/instagram-workshop/2025-05-04/
END:VEVENT
BEGIN:VEVENT
DTSTART;TZID=America/Toronto:20250507T100000
DTEND;TZID=America/Toronto:20250507T120000
DTSTAMP:20260419T130856
CREATED:20230606T225319Z
LAST-MODIFIED:20250430T154901Z
UID:15973-1746612000-1746619200@stcb.ca
SUMMARY:Garden Group
DESCRIPTION:If you enjoy spending time gardening\, please join our friendly group of gardeners. We will be planning this growing season on Wednesday\, May 7th at 10 am in the Sensory Room. For more information\, please contact the office at 905 634 1809 or by email to staff@stcb.ca.
URL:https://stcb.ca/event/garden-group/
END:VEVENT
BEGIN:VEVENT
DTSTART;TZID=America/Toronto:20250510T110000
DTEND;TZID=America/Toronto:20250510T133000
DTSTAMP:20260419T130856
CREATED:20240303T220128Z
LAST-MODIFIED:20250430T163848Z
UID:18465-1746874800-1746883800@stcb.ca
SUMMARY:Mother's Day Tea
DESCRIPTION:Please join us for a charming afternoon celebrating spring and community. Our Mother’s Day Tea is the perfect opportunity to slow down\, enjoy a warm cup of tea\, and share meaningful moments with friends\, family\, and loved ones. Tickets for this fundraiser\, which benefits our Open Doors and other programs\, are $50 per person or $350 for a table of eight. \nWhat to Expect: \n\nA cozy\, welcoming atmosphere\nA delightful selection of teas and scrumptious treats\nGreat conversation and the joy of community\nA charming touch of tradition with a modern twist\n\nBonus Experience – Create Your Own Fascinator!\nCome early between 11:00-11:30 am for a hands-on activity making your own custom fascinator headband – the perfect accessory to wear during the tea and take home as a keepsake! (By donation – all proceeds support our programs.) \nWhether you’re celebrating a mom\, bringing one along\, or simply treating yourself – this event is a beautiful way to mark the day. \nSpace is limited – reserve your spot today by calling the church office or by purchasing tickets online: https://www.eventbrite.ca/e/mothers-day-tea-tickets-1260084278999
URL:https://stcb.ca/event/mothers-day-tea/
END:VEVENT
END:VCALENDAR